BEGIN:VCALENDAR
VERSION:2.0
PRODID:-//Artists Play - ECPv6.15.20//NONSGML v1.0//EN
CALSCALE:GREGORIAN
METHOD:PUBLISH
X-ORIGINAL-URL:https://artistsplay.com
X-WR-CALDESC:Events for Artists Play
REFRESH-INTERVAL;VALUE=DURATION:PT1H
X-Robots-Tag:noindex
X-PUBLISHED-TTL:PT1H
BEGIN:VTIMEZONE
TZID:America/Toronto
BEGIN:DAYLIGHT
TZOFFSETFROM:-0500
TZOFFSETTO:-0400
TZNAME:EDT
DTSTART:20240310T070000
END:DAYLIGHT
BEGIN:STANDARD
TZOFFSETFROM:-0400
TZOFFSETTO:-0500
TZNAME:EST
DTSTART:20241103T060000
END:STANDARD
BEGIN:DAYLIGHT
TZOFFSETFROM:-0500
TZOFFSETTO:-0400
TZNAME:EDT
DTSTART:20250309T070000
END:DAYLIGHT
BEGIN:STANDARD
TZOFFSETFROM:-0400
TZOFFSETTO:-0500
TZNAME:EST
DTSTART:20251102T060000
END:STANDARD
BEGIN:DAYLIGHT
TZOFFSETFROM:-0500
TZOFFSETTO:-0400
TZNAME:EDT
DTSTART:20260308T070000
END:DAYLIGHT
BEGIN:STANDARD
TZOFFSETFROM:-0400
TZOFFSETTO:-0500
TZNAME:EST
DTSTART:20261101T060000
END:STANDARD
END:VTIMEZONE
BEGIN:VTIMEZONE
TZID:UTC
BEGIN:STANDARD
TZOFFSETFROM:+0000
TZOFFSETTO:+0000
TZNAME:UTC
DTSTART:20230101T000000
END:STANDARD
END:VTIMEZONE
BEGIN:VEVENT
DTSTART;VALUE=DATE:20251219
DTEND;VALUE=DATE:20251222
DTSTAMP:20260423T174908
CREATED:20250930T174425Z
LAST-MODIFIED:20250930T174425Z
UID:9059-1766102400-1766361599@artistsplay.com
SUMMARY:Winter BLOOM
DESCRIPTION:
URL:https://artistsplay.com/event/winter-bloom/
LOCATION:Toronto Botanical Gardens\, 777 Lawrence Ave East\, Toronto\, Ontario\, M3C 1P2\, Canada
CATEGORIES:LIVE SHOWS
END:VEVENT
BEGIN:VEVENT
DTSTART;TZID=America/Toronto:20251026T130000
DTEND;TZID=America/Toronto:20251026T160000
DTSTAMP:20260423T174908
CREATED:20250930T171519Z
LAST-MODIFIED:20250930T171519Z
UID:9050-1761483600-1761494400@artistsplay.com
SUMMARY:Silly Spirits Circus Show
DESCRIPTION:Step right up for a family-friendly Halloween celebration full of circus magic\, spooky fun\, and silly surprises! From circus stations and youth performances to games\, face painting\, and hands-on activities\, there’s something for everyone to enjoy. Decorate your own pumpkin\, test your skills in playful pop-up challenges\, or grab a spooky treat at the concession stand. \nThe Silly Spirits Circus Show is the perfect way for kids and families to celebrate Halloween together!
URL:https://artistsplay.com/event/silly-spirits-circus-show/
LOCATION:THE PLAYGROUND
CATEGORIES:LIVE SHOWS
END:VEVENT
BEGIN:VEVENT
DTSTART;TZID=UTC:20251025T200000
DTEND;TZID=UTC:20251025T233000
DTSTAMP:20260423T174908
CREATED:20250930T171032Z
LAST-MODIFIED:20250930T171032Z
UID:9048-1761422400-1761435000@artistsplay.com
SUMMARY:Hollywood Halloween Cabaret
DESCRIPTION:Step onto the blood-red carpet and into a world where Hollywood glamour collides with Halloween. The Hollywood Halloween Circus is a 19+ immersive evening of aerial artistry\, acrobatics\, and theatrical thrills — playful\, spooky\, and unforgettable. \nGuests will be swept into a surreal red carpet experience with paparazzi zombies\, ghostly starlets\, and eerie photo ops straight from a haunted movie set. Inside\, dazzling circus acts take center stage\, paired with creepy cocktails\, gourmet treats\, and a VIP Glam Lounge for those who want to sip champagne in vintage style. \nWith jaw-dropping performances\, immersive characters\, and spine-tingling atmosphere\, this is not your average Halloween party; it’s a night of chills\, sparkle\, and cinematic spectacle.
URL:https://artistsplay.com/event/hollywood-halloween-cabaret/
LOCATION:THE PLAYGROUND
CATEGORIES:LIVE SHOWS
END:VEVENT
BEGIN:VEVENT
DTSTART;TZID=UTC:20250426T080000
DTEND;TZID=UTC:20250427T170000
DTSTAMP:20260423T174908
CREATED:20241030T214922Z
LAST-MODIFIED:20250104T171134Z
UID:5780-1745654400-1745773200@artistsplay.com
SUMMARY:EVENTUALIZE Circus Festival 2025
DESCRIPTION:Artists’ Play is hosting the Eventualize Circus Festival in April 2025!  Stay tuned for performance\, training and educational opportunities.
URL:https://artistsplay.com/event/eventualize-circus-festival-2025/
CATEGORIES:ADULT CLASSES,LIVE SHOWS
ATTACH;FMTTYPE=image/jpeg:https://artistsplay.com/wp-content/uploads/2024/10/Eventualize_logo2025.jpg
END:VEVENT
BEGIN:VEVENT
DTSTART;VALUE=DATE:20241220
DTEND;VALUE=DATE:20241223
DTSTAMP:20260423T174908
CREATED:20240920T135233Z
LAST-MODIFIED:20240924T142522Z
UID:5311-1734652800-1734911999@artistsplay.com
SUMMARY:WINTER BLOOMS at the Toronto Botanical Garden
DESCRIPTION:This intimate and interactive high-flying circus show features breathtaking displays of aerial silks\, acrobatics\, strength\, artistry and humour. Your garden hosts\, “Rosie Petals” and her mischievous blossom-buddy “Dust Bunny” will take you on a magical journey as the garden awakens from its gentle winter slumber. This feel-good show can be enjoyed solo or with family and friends looking for a holiday outing. Suitable for all ages.\nAudience members are invited to meet the cast after the show. They are always happy to pose with you for a selfie!
URL:https://artistsplay.com/event/winter-blooms-at-the-toronto-botanical-garden/
LOCATION:Toronto Botanical Gardens\, 777 Lawrence Ave East\, Toronto\, Ontario\, M3C 1P2\, Canada
CATEGORIES:ADULT CLASSES,CHILD & YOUTH CLASS SCHEDULE,LIVE SHOWS
ATTACH;FMTTYPE=image/jpeg:https://artistsplay.com/wp-content/uploads/2024/09/AP_WINTERBLOOMS_eventbrite-scaled.jpg
END:VEVENT
BEGIN:VEVENT
DTSTART;TZID=UTC:20241201T120000
DTEND;TZID=UTC:20241201T153000
DTSTAMP:20260423T174908
CREATED:20241011T220049Z
LAST-MODIFIED:20241011T220049Z
UID:5523-1733054400-1733067000@artistsplay.com
SUMMARY:WINTERFEST FAIR + CABARET
DESCRIPTION:Artists’ Play is having a fun filled day for families and people of all ages to experience!Circus Fair with Vendors: 12pm to 2pm Come try Circus! A great way to come and learn a new move or show your skills you know to friends and family! Our qualified instructors are happy to teach basic skills or spot our long time students! Adults and children are welcome to hang upsidedown\, jump on our air track and flip if they dare!Cabaret! 2pm to 3pm Circus and Dance Performances by emerging and established artists. Reception from 3pm to 3:45pm.
URL:https://artistsplay.com/event/winterfest-fair-cabaret/
LOCATION:THE PLAYGROUND
CATEGORIES:LIVE SHOWS
ATTACH;FMTTYPE=image/jpeg:https://artistsplay.com/wp-content/uploads/2024/10/WinterFestSquare.jpg
END:VEVENT
END:VCALENDAR