BEGIN:VCALENDAR
VERSION:2.0
PRODID:-//Artists Play - ECPv6.15.20//NONSGML v1.0//EN
CALSCALE:GREGORIAN
METHOD:PUBLISH
X-WR-CALNAME:Artists Play
X-ORIGINAL-URL:https://artistsplay.com
X-WR-CALDESC:Events for Artists Play
REFRESH-INTERVAL;VALUE=DURATION:PT1H
X-Robots-Tag:noindex
X-PUBLISHED-TTL:PT1H
BEGIN:VTIMEZONE
TZID:America/Toronto
BEGIN:DAYLIGHT
TZOFFSETFROM:-0500
TZOFFSETTO:-0400
TZNAME:EDT
DTSTART:20240310T070000
END:DAYLIGHT
BEGIN:STANDARD
TZOFFSETFROM:-0400
TZOFFSETTO:-0500
TZNAME:EST
DTSTART:20241103T060000
END:STANDARD
BEGIN:DAYLIGHT
TZOFFSETFROM:-0500
TZOFFSETTO:-0400
TZNAME:EDT
DTSTART:20250309T070000
END:DAYLIGHT
BEGIN:STANDARD
TZOFFSETFROM:-0400
TZOFFSETTO:-0500
TZNAME:EST
DTSTART:20251102T060000
END:STANDARD
BEGIN:DAYLIGHT
TZOFFSETFROM:-0500
TZOFFSETTO:-0400
TZNAME:EDT
DTSTART:20260308T070000
END:DAYLIGHT
BEGIN:STANDARD
TZOFFSETFROM:-0400
TZOFFSETTO:-0500
TZNAME:EST
DTSTART:20261101T060000
END:STANDARD
BEGIN:DAYLIGHT
TZOFFSETFROM:-0500
TZOFFSETTO:-0400
TZNAME:EDT
DTSTART:20270314T070000
END:DAYLIGHT
BEGIN:STANDARD
TZOFFSETFROM:-0400
TZOFFSETTO:-0500
TZNAME:EST
DTSTART:20271107T060000
END:STANDARD
END:VTIMEZONE
BEGIN:VTIMEZONE
TZID:UTC
BEGIN:STANDARD
TZOFFSETFROM:+0000
TZOFFSETTO:+0000
TZNAME:UTC
DTSTART:20240101T000000
END:STANDARD
END:VTIMEZONE
BEGIN:VEVENT
DTSTART;TZID=America/Toronto:20251114T080000
DTEND;TZID=America/Toronto:20251114T170000
DTSTAMP:20260426T005239
CREATED:20250930T193257Z
LAST-MODIFIED:20250930T193257Z
UID:9070-1763107200-1763139600@artistsplay.com
SUMMARY:November 14th - PA Day Camp. No regular classes.
DESCRIPTION:
URL:https://artistsplay.com/event/november-14th-pa-day-camp-no-regular-classes/
LOCATION:THE PLAYGROUND
CATEGORIES:NO REGULAR CLASSES
END:VEVENT
BEGIN:VEVENT
DTSTART;VALUE=DATE:20251130
DTEND;VALUE=DATE:20251201
DTSTAMP:20260426T005239
CREATED:20250930T174057Z
LAST-MODIFIED:20250930T174057Z
UID:9054-1764460800-1764547199@artistsplay.com
SUMMARY:Artists' Play Adult Showcase
DESCRIPTION:
URL:https://artistsplay.com/event/artists-play-adult-showcase/
LOCATION:ARTISTS’ PLAY
END:VEVENT
BEGIN:VEVENT
DTSTART;TZID=America/Toronto:20251201T160000
DTEND;TZID=America/Toronto:20251213T200000
DTSTAMP:20260426T005239
CREATED:20250930T174218Z
LAST-MODIFIED:20251103T194914Z
UID:9056-1764604800-1765656000@artistsplay.com
SUMMARY:In-Studio Showcases
DESCRIPTION:Official list will be posted in mid-November. Showings will happen at the normal class time.
URL:https://artistsplay.com/event/in-studio-showcase/
LOCATION:ARTISTS’ PLAY
CATEGORIES:CHILD & YOUTH CLASS SCHEDULE
END:VEVENT
BEGIN:VEVENT
DTSTART;TZID=America/Toronto:20251214T130000
DTEND;TZID=America/Toronto:20251214T160000
DTSTAMP:20260426T005239
CREATED:20250930T173917Z
LAST-MODIFIED:20251117T150453Z
UID:9052-1765717200-1765728000@artistsplay.com
SUMMARY:Elite and Pre-Elite Showcase and Fair
DESCRIPTION:Overview \nStep into the sparkle! Join us for a cozy afternoon of circus magic\, hot cocoa\, face painting\, and hands-on fun for all ages. Warm up with our concession\, be blown away by our incredible youth company and emerging artists\, and then try the circus yourself—no experience needed. \nWhat to Expect \n\nFestive vibes\, family-friendly shows\, and welcoming coaches during the try-it hour.\nDrop-in style stations—join one or sample them all.\n\nWho Can Participate \n\nAll ages are welcome. Young children should be accompanied by an adult.\nNo prior experience required.
URL:https://artistsplay.com/event/elite-and-pre-elite-showcase-and-fair/
LOCATION:THE PLAYGROUND
END:VEVENT
BEGIN:VEVENT
DTSTART;VALUE=DATE:20251219
DTEND;VALUE=DATE:20251222
DTSTAMP:20260426T005239
CREATED:20250930T174425Z
LAST-MODIFIED:20250930T174425Z
UID:9059-1766102400-1766361599@artistsplay.com
SUMMARY:Winter BLOOM
DESCRIPTION:
URL:https://artistsplay.com/event/winter-bloom/
LOCATION:Toronto Botanical Gardens\, 777 Lawrence Ave East\, Toronto\, Ontario\, M3C 1P2\, Canada
CATEGORIES:LIVE SHOWS
END:VEVENT
BEGIN:VEVENT
DTSTART;VALUE=DATE:20251221
DTEND;VALUE=DATE:20260105
DTSTAMP:20260426T005239
CREATED:20251028T175716Z
LAST-MODIFIED:20251028T175716Z
UID:9218-1766275200-1767571199@artistsplay.com
SUMMARY:December 21st to January 4th - Winter Break. No regular classes.
DESCRIPTION:
URL:https://artistsplay.com/event/december-21st-to-january-4th-winter-break-no-regular-classes/
CATEGORIES:NO REGULAR CLASSES
END:VEVENT
BEGIN:VEVENT
DTSTART;TZID=UTC:20251222T090000
DTEND;TZID=UTC:20251222T160000
DTSTAMP:20260426T005239
CREATED:20251028T175820Z
LAST-MODIFIED:20251028T175820Z
UID:9220-1766394000-1766419200@artistsplay.com
SUMMARY:Winter Break Day Camp
DESCRIPTION:
URL:https://artistsplay.com/event/winter-break-day-camp/
END:VEVENT
BEGIN:VEVENT
DTSTART;TZID=UTC:20251223T090000
DTEND;TZID=UTC:20251223T160000
DTSTAMP:20260426T005239
CREATED:20251028T175848Z
LAST-MODIFIED:20251028T175848Z
UID:9222-1766480400-1766505600@artistsplay.com
SUMMARY:Winter Break Day Camp
DESCRIPTION:
URL:https://artistsplay.com/event/winter-break-day-camp-2/
END:VEVENT
BEGIN:VEVENT
DTSTART;TZID=UTC:20251229T090000
DTEND;TZID=UTC:20251229T160000
DTSTAMP:20260426T005239
CREATED:20251028T175916Z
LAST-MODIFIED:20251028T175916Z
UID:9224-1766998800-1767024000@artistsplay.com
SUMMARY:Winter Break Day Camp
DESCRIPTION:
URL:https://artistsplay.com/event/winter-break-day-camp-3/
END:VEVENT
BEGIN:VEVENT
DTSTART;TZID=UTC:20251230T090000
DTEND;TZID=UTC:20251230T160000
DTSTAMP:20260426T005239
CREATED:20251028T175943Z
LAST-MODIFIED:20251028T175943Z
UID:9226-1767085200-1767110400@artistsplay.com
SUMMARY:Winter Break Day Camp
DESCRIPTION:
URL:https://artistsplay.com/event/winter-break-day-camp-4/
END:VEVENT
BEGIN:VEVENT
DTSTART;TZID=America/Toronto:20260116T080000
DTEND;TZID=America/Toronto:20260116T170000
DTSTAMP:20260426T005239
CREATED:20250930T194651Z
LAST-MODIFIED:20250930T194651Z
UID:9072-1768550400-1768582800@artistsplay.com
SUMMARY:January 16th - PA Day Camp. No regular classes.
DESCRIPTION:
URL:https://artistsplay.com/event/january-16th-pa-day-camp-no-regular-classes/
LOCATION:THE PLAYGROUND
CATEGORIES:NO REGULAR CLASSES
END:VEVENT
BEGIN:VEVENT
DTSTART;TZID=America/Toronto:20260213T080000
DTEND;TZID=America/Toronto:20260213T170000
DTSTAMP:20260426T005239
CREATED:20250930T195926Z
LAST-MODIFIED:20250930T195926Z
UID:9074-1770969600-1771002000@artistsplay.com
SUMMARY:February 13th - PA Day Camp. No regular classes.
DESCRIPTION:
URL:https://artistsplay.com/event/february-13th-pa-day-camp-no-regular-classes/
LOCATION:THE PLAYGROUND
CATEGORIES:NO REGULAR CLASSES
END:VEVENT
BEGIN:VEVENT
DTSTART;TZID=UTC:20260316T090000
DTEND;TZID=UTC:20260320T160000
DTSTAMP:20260426T005239
CREATED:20251028T180456Z
LAST-MODIFIED:20251103T195420Z
UID:9228-1773651600-1774022400@artistsplay.com
SUMMARY:March 16th to 20th - March Break Camp. No regular classes.
DESCRIPTION:
URL:https://artistsplay.com/event/march-16th-to-20th-march-break-camp/
CATEGORIES:NO REGULAR CLASSES
END:VEVENT
BEGIN:VEVENT
DTSTART;TZID=America/Toronto:20260329T130000
DTEND;TZID=America/Toronto:20260329T160000
DTSTAMP:20260426T005239
CREATED:20250930T180251Z
LAST-MODIFIED:20260303T150113Z
UID:9061-1774789200-1774800000@artistsplay.com
SUMMARY:Spring Fair
DESCRIPTION:
URL:https://artistsplay.com/event/elite-team-spring-showcase/
LOCATION:ARTISTS’ PLAY
CATEGORIES:CHILD & YOUTH CLASS SCHEDULE
END:VEVENT
BEGIN:VEVENT
DTSTART;VALUE=DATE:20260403
DTEND;VALUE=DATE:20260407
DTSTAMP:20260426T005239
CREATED:20260302T152614Z
LAST-MODIFIED:20260302T152614Z
UID:9802-1775174400-1775519999@artistsplay.com
SUMMARY:April 3rd to 6th - Closed for Easter.
DESCRIPTION:
URL:https://artistsplay.com/event/april-3rd-to-6th-closed-for-easter/
CATEGORIES:CHILD & YOUTH CLASS SCHEDULE,NO REGULAR CLASSES
END:VEVENT
BEGIN:VEVENT
DTSTART;VALUE=DATE:20260424
DTEND;VALUE=DATE:20260427
DTSTAMP:20260426T005239
CREATED:20250930T180932Z
LAST-MODIFIED:20250930T180932Z
UID:9063-1776988800-1777247999@artistsplay.com
SUMMARY:Eventualize Circus Arts Festival
DESCRIPTION:
URL:https://artistsplay.com/event/eventualize-circus-arts-festival/
LOCATION:ARTISTS’ PLAY
CATEGORIES:LIVE SHOWS
END:VEVENT
BEGIN:VEVENT
DTSTART;VALUE=DATE:20260516
DTEND;VALUE=DATE:20260519
DTSTAMP:20260426T005239
CREATED:20260416T140049Z
LAST-MODIFIED:20260416T140049Z
UID:10658-1778889600-1779148799@artistsplay.com
SUMMARY:May 16th to 18th - Closed for Victoria Day Weekend.
DESCRIPTION:
URL:https://artistsplay.com/event/may-16th-to-18th-closed-for-victoria-day-weekend/
CATEGORIES:NO REGULAR CLASSES
END:VEVENT
BEGIN:VEVENT
DTSTART;VALUE=DATE:20260523
DTEND;VALUE=DATE:20260525
DTSTAMP:20260426T005239
CREATED:20250930T181031Z
LAST-MODIFIED:20250930T181031Z
UID:9065-1779494400-1779667199@artistsplay.com
SUMMARY:Artists' Play Year-End Shows
DESCRIPTION:
URL:https://artistsplay.com/event/artists-play-year-end-shows-4/
LOCATION:ARTISTS’ PLAY
CATEGORIES:ADULT CLASSES,CHILD & YOUTH CLASS SCHEDULE,LIVE SHOWS
END:VEVENT
BEGIN:VEVENT
DTSTART;TZID=America/Toronto:20260605T080000
DTEND;TZID=America/Toronto:20260605T170000
DTSTAMP:20260426T005239
CREATED:20250930T200027Z
LAST-MODIFIED:20250930T200027Z
UID:9076-1780646400-1780678800@artistsplay.com
SUMMARY:June 5th - PA Day Camp. No regular classes.
DESCRIPTION:
URL:https://artistsplay.com/event/june-5th-pa-day-camp-no-regular-classes/
LOCATION:THE PLAYGROUND
CATEGORIES:NO REGULAR CLASSES
END:VEVENT
BEGIN:VEVENT
DTSTART;TZID=UTC:20260622T160000
DTEND;TZID=UTC:20260625T210000
DTSTAMP:20260426T005239
CREATED:20260416T140449Z
LAST-MODIFIED:20260416T140449Z
UID:10660-1782144000-1782421200@artistsplay.com
SUMMARY:June 22nd to June 25th - Last week of regular classes.
DESCRIPTION:
URL:https://artistsplay.com/event/june-22nd-to-june-25th-last-week-of-regular-classes/
CATEGORIES:CHILD & YOUTH CLASS SCHEDULE
END:VEVENT
BEGIN:VEVENT
DTSTART;VALUE=DATE:20260626
DTEND;VALUE=DATE:20260627
DTSTAMP:20260426T005239
CREATED:20260416T140602Z
LAST-MODIFIED:20260416T140602Z
UID:10662-1782432000-1782518399@artistsplay.com
SUMMARY:June 26th - TDSB PA Day. No regular classes. No PA Day camp.
DESCRIPTION:
URL:https://artistsplay.com/event/june-26th-tdsb-pa-day-no-regular-classes-no-pa-day-camp/
CATEGORIES:NO REGULAR CLASSES
END:VEVENT
END:VCALENDAR