BEGIN:VCALENDAR
VERSION:2.0
PRODID:-//Artists Play - ECPv6.15.20//NONSGML v1.0//EN
CALSCALE:GREGORIAN
METHOD:PUBLISH
X-WR-CALNAME:Artists Play
X-ORIGINAL-URL:https://artistsplay.com
X-WR-CALDESC:Events for Artists Play
REFRESH-INTERVAL;VALUE=DURATION:PT1H
X-Robots-Tag:noindex
X-PUBLISHED-TTL:PT1H
BEGIN:VTIMEZONE
TZID:UTC
BEGIN:STANDARD
TZOFFSETFROM:+0000
TZOFFSETTO:+0000
TZNAME:UTC
DTSTART:20230101T000000
END:STANDARD
END:VTIMEZONE
BEGIN:VEVENT
DTSTART;TZID=UTC:20250310T090000
DTEND;TZID=UTC:20250314T160000
DTSTAMP:20260426T030153
CREATED:20241001T193800Z
LAST-MODIFIED:20241001T193800Z
UID:5394-1741597200-1741968000@artistsplay.com
SUMMARY:March 10th to 14th - March Break Camp. No regular classes.
DESCRIPTION:
URL:https://artistsplay.com/event/march-10th-to-14th-march-break-camp-no-regular-classes/
CATEGORIES:NO REGULAR CLASSES
END:VEVENT
BEGIN:VEVENT
DTSTART;TZID=UTC:20250215T080000
DTEND;TZID=UTC:20250217T170000
DTSTAMP:20260426T030153
CREATED:20241029T203151Z
LAST-MODIFIED:20241029T203151Z
UID:5751-1739606400-1739811600@artistsplay.com
SUMMARY:INTRO TO HAIR HANGING with Trellis Arts
DESCRIPTION:Intro to HAIR SUSPENSION: A Holistic Course\nFebruary 15-17\, 2025\nArtists Play\, Toronto\, Canada\n\nCourse includes:\n\n22 hours live instruction\nTHEORETICAL LEARNING: anatomy\, joint mobility\, postural health\, hair health\, sensory management and hair hang history\nAPPLIED TRAINING: body preparation\, hair knot preparation\, progressions for hair hang and rigging foundations\nAll hair hang supplies provided\nA take-home handbook + illustrated hair knot guide + how-to video tutorial\nAll tools and education to start your hair suspension practice independently at your home studio(s)\nAccess to follow-up lessons\, workshops\, courses and seminars with Trellis Arts + access to a support community\n\n \nYour instructors are..\nNICOLE MALBEUF – Hair Suspension Artist & Aerialist\, Aerial Coach \nOPHÉLIE DAVIS – Personal Trainer\, Pelvic Floor & Core Specialist \nLAURA GRIFFIN – Physical Education Teacher\, Anatomy Specialist\, Aerial Artist\, Movement Coach\n  \n>>> REGISTRATION IS BY APPLICATION ONLY <<< \nMUST BE 18 YEARS OF AGE OR OLDER.\nSpots are limited. Email us at TRELLISENTERTAINMENT@GMAIL.COM \nEarly Bird Sale! \n$1\,650 +HST (12% OFF) UNTIL DEC 1\nREGULAR PRICE – $1\,875 +HST \nIf this course is financially out of range for you\, please reach out to us – we can offer resources for professional development funding and/or payment plans. \nNEW! WE OFFER ONE PARTIAL SCHOLARSHIP FOR AN INDIVIDUAL WHO IDENTIFIES WITH THE DISABILITY\, TRANS AND/OR BIPOC COMMUNITY.  Email us to inquire.\n\nAccess Notes:\n  \n\nCourse is presented in english. There is no sign language interpretation.\nCourse is presented with a variety of very clear visuals and written descriptions\, along with a follow-along handbook.\nStudents must be able to manipulate their own hair with precision or bring along a support person who will be involved in their hair preparation practice.\nWe will work to create a relaxed environment where people can be comfortable being themselves.\nWe will offer multiple seating options. Or feel free to bring your own.\nWe welcome students to take breaks as needed.\nSnacks\, ear plugs and menstrual products will be offered.\nStudio is wheelchair accessible.\nLet us know in your application what your access needs are and we will do our best to accommodate!\n\n\n\nFor more information\, check out our website at\nwww.trellisarts.ca/hair-hang and follow us on IG: @trellisarts\nEmail us if you have any questions at trellisentertainment@gmail.com
URL:https://artistsplay.com/event/intro-to-hair-hanging-with-trellis-arts/
CATEGORIES:ADULT CLASSES
ATTACH;FMTTYPE=image/jpeg:https://artistsplay.com/wp-content/uploads/2024/10/hairhang.jpg
END:VEVENT
BEGIN:VEVENT
DTSTART;VALUE=DATE:20250215
DTEND;VALUE=DATE:20250218
DTSTAMP:20260426T030153
CREATED:20241001T192512Z
LAST-MODIFIED:20241001T192512Z
UID:5392-1739577600-1739836799@artistsplay.com
SUMMARY:February 15th to 17th - Family Day Weekend. No regular classes.
DESCRIPTION:
URL:https://artistsplay.com/event/february-15th-to-17th-family-day-weekend-no-regular-classes/
CATEGORIES:NO REGULAR CLASSES
END:VEVENT
BEGIN:VEVENT
DTSTART;TZID=UTC:20250214T090000
DTEND;TZID=UTC:20250214T160000
DTSTAMP:20260426T030153
CREATED:20241001T192416Z
LAST-MODIFIED:20241001T192416Z
UID:5390-1739523600-1739548800@artistsplay.com
SUMMARY:February 14th - PA Day Camp. No regular classes.
DESCRIPTION:
URL:https://artistsplay.com/event/february-14th-pa-day-camp-no-regular-classes/
CATEGORIES:NO REGULAR CLASSES
END:VEVENT
BEGIN:VEVENT
DTSTART;TZID=UTC:20250209T123000
DTEND;TZID=UTC:20250209T163000
DTSTAMP:20260426T030153
CREATED:20250109T162705Z
LAST-MODIFIED:20250109T162705Z
UID:6517-1739104200-1739118600@artistsplay.com
SUMMARY:VALENTINE'S CARNIVAL + CABARET
DESCRIPTION:Join us for a fun afternoon of performances\, trial Circus classes\, local vendors and so much more!
URL:https://artistsplay.com/event/valentines-carnival-cabaret/
LOCATION:THE PLAYGROUND
ATTACH;FMTTYPE=image/jpeg:https://artistsplay.com/wp-content/uploads/2025/01/ValentinesCarnival-scaled.jpg
END:VEVENT
BEGIN:VEVENT
DTSTART;TZID=UTC:20250117T090000
DTEND;TZID=UTC:20250117T160000
DTSTAMP:20260426T030153
CREATED:20241001T192020Z
LAST-MODIFIED:20250107T163405Z
UID:5387-1737104400-1737129600@artistsplay.com
SUMMARY:January 17th - PA Day Camp. No regular classes.
DESCRIPTION:
URL:https://artistsplay.com/event/january-24th-pa-day-camp-no-regular-classes/
CATEGORIES:NO REGULAR CLASSES
END:VEVENT
BEGIN:VEVENT
DTSTART;TZID=UTC:20250103T090000
DTEND;TZID=UTC:20250103T160000
DTSTAMP:20260426T030153
CREATED:20241119T184827Z
LAST-MODIFIED:20241119T184836Z
UID:5967-1735894800-1735920000@artistsplay.com
SUMMARY:Winter Break Day Camp
DESCRIPTION:
URL:https://artistsplay.com/event/winter-break-day-camp-january-3rd/
LOCATION:ARTISTS’ PLAY
END:VEVENT
BEGIN:VEVENT
DTSTART;TZID=UTC:20250102T090000
DTEND;TZID=UTC:20250102T160000
DTSTAMP:20260426T030153
CREATED:20241119T184734Z
LAST-MODIFIED:20241119T184744Z
UID:5964-1735808400-1735833600@artistsplay.com
SUMMARY:Winter Break Day Camp
DESCRIPTION:
URL:https://artistsplay.com/event/winter-break-day-camp-january-2nd/
LOCATION:ARTISTS’ PLAY
END:VEVENT
BEGIN:VEVENT
DTSTART;TZID=UTC:20241230T090000
DTEND;TZID=UTC:20241230T160000
DTSTAMP:20260426T030153
CREATED:20241119T184534Z
LAST-MODIFIED:20241119T184544Z
UID:5961-1735549200-1735574400@artistsplay.com
SUMMARY:Winter Break Day Camp
DESCRIPTION:
URL:https://artistsplay.com/event/winter-break-day-camp-december-30th/
LOCATION:ARTISTS’ PLAY
END:VEVENT
BEGIN:VEVENT
DTSTART;TZID=UTC:20241227T090000
DTEND;TZID=UTC:20241227T160000
DTSTAMP:20260426T030153
CREATED:20241119T184300Z
LAST-MODIFIED:20241119T184345Z
UID:5957-1735290000-1735315200@artistsplay.com
SUMMARY:Winter Break Day Camp
DESCRIPTION:
URL:https://artistsplay.com/event/winter-break-day-camp-december-27th/
LOCATION:ARTISTS’ PLAY
END:VEVENT
BEGIN:VEVENT
DTSTART;TZID=UTC:20241223T090000
DTEND;TZID=UTC:20241223T160000
DTSTAMP:20260426T030153
CREATED:20241119T184203Z
LAST-MODIFIED:20241119T184418Z
UID:5955-1734944400-1734969600@artistsplay.com
SUMMARY:Winter Break Day Camp
DESCRIPTION:
URL:https://artistsplay.com/event/winter-break-day-camp-december-23rd/
LOCATION:ARTISTS’ PLAY
END:VEVENT
BEGIN:VEVENT
DTSTART;VALUE=DATE:20241222
DTEND;VALUE=DATE:20250106
DTSTAMP:20260426T030153
CREATED:20241001T185619Z
LAST-MODIFIED:20241001T185619Z
UID:5385-1734825600-1736121599@artistsplay.com
SUMMARY:December 22nd to January 5th - Winter Break. No regular classes.
DESCRIPTION:
URL:https://artistsplay.com/event/december-22nd-to-january-5th-winter-break-no-regular-classes/
CATEGORIES:NO REGULAR CLASSES
END:VEVENT
BEGIN:VEVENT
DTSTART;VALUE=DATE:20241220
DTEND;VALUE=DATE:20241223
DTSTAMP:20260426T030153
CREATED:20240920T135233Z
LAST-MODIFIED:20240924T142522Z
UID:5311-1734652800-1734911999@artistsplay.com
SUMMARY:WINTER BLOOMS at the Toronto Botanical Garden
DESCRIPTION:This intimate and interactive high-flying circus show features breathtaking displays of aerial silks\, acrobatics\, strength\, artistry and humour. Your garden hosts\, “Rosie Petals” and her mischievous blossom-buddy “Dust Bunny” will take you on a magical journey as the garden awakens from its gentle winter slumber. This feel-good show can be enjoyed solo or with family and friends looking for a holiday outing. Suitable for all ages.\nAudience members are invited to meet the cast after the show. They are always happy to pose with you for a selfie!
URL:https://artistsplay.com/event/winter-blooms-at-the-toronto-botanical-garden/
LOCATION:Toronto Botanical Gardens\, 777 Lawrence Ave East\, Toronto\, Ontario\, M3C 1P2\, Canada
CATEGORIES:ADULT CLASSES,CHILD & YOUTH CLASS SCHEDULE,LIVE SHOWS
ATTACH;FMTTYPE=image/jpeg:https://artistsplay.com/wp-content/uploads/2024/09/AP_WINTERBLOOMS_eventbrite-scaled.jpg
END:VEVENT
BEGIN:VEVENT
DTSTART;TZID=UTC:20241201T120000
DTEND;TZID=UTC:20241201T153000
DTSTAMP:20260426T030153
CREATED:20241011T220049Z
LAST-MODIFIED:20241011T220049Z
UID:5523-1733054400-1733067000@artistsplay.com
SUMMARY:WINTERFEST FAIR + CABARET
DESCRIPTION:Artists’ Play is having a fun filled day for families and people of all ages to experience!Circus Fair with Vendors: 12pm to 2pm Come try Circus! A great way to come and learn a new move or show your skills you know to friends and family! Our qualified instructors are happy to teach basic skills or spot our long time students! Adults and children are welcome to hang upsidedown\, jump on our air track and flip if they dare!Cabaret! 2pm to 3pm Circus and Dance Performances by emerging and established artists. Reception from 3pm to 3:45pm.
URL:https://artistsplay.com/event/winterfest-fair-cabaret/
LOCATION:THE PLAYGROUND
CATEGORIES:LIVE SHOWS
ATTACH;FMTTYPE=image/jpeg:https://artistsplay.com/wp-content/uploads/2024/10/WinterFestSquare.jpg
END:VEVENT
BEGIN:VEVENT
DTSTART;TZID=UTC:20241129T090000
DTEND;TZID=UTC:20241129T160000
DTSTAMP:20260426T030153
CREATED:20241001T183939Z
LAST-MODIFIED:20241001T183939Z
UID:5383-1732870800-1732896000@artistsplay.com
SUMMARY:November 29th - PA Day Camp. No regular classes.
DESCRIPTION:
URL:https://artistsplay.com/event/november-29th-pa-day-camp-no-regular-classes/
CATEGORIES:NO REGULAR CLASSES
END:VEVENT
BEGIN:VEVENT
DTSTART;TZID=UTC:20241108T090000
DTEND;TZID=UTC:20241108T160000
DTSTAMP:20260426T030153
CREATED:20241001T183829Z
LAST-MODIFIED:20241001T183829Z
UID:5381-1731056400-1731081600@artistsplay.com
SUMMARY:November 8th - PA Day Camp. No regular classes.
DESCRIPTION:
URL:https://artistsplay.com/event/november-8th-pa-day-camp-no-regular-classes/
CATEGORIES:NO REGULAR CLASSES
END:VEVENT
BEGIN:VEVENT
DTSTART;VALUE=DATE:20241012
DTEND;VALUE=DATE:20241015
DTSTAMP:20260426T030153
CREATED:20241001T183354Z
LAST-MODIFIED:20241001T183511Z
UID:5379-1728691200-1728950399@artistsplay.com
SUMMARY:October 12th to 14th - Thanksgiving Weekend. No regular classes.
DESCRIPTION:
URL:https://artistsplay.com/event/october-12th-to-14th-thanksgiving-weekend-no-regular-classes/
CATEGORIES:NO REGULAR CLASSES
END:VEVENT
BEGIN:VEVENT
DTSTART;TZID=UTC:20241004T080000
DTEND;TZID=UTC:20241004T170000
DTSTAMP:20260426T030153
CREATED:20241004T125930Z
LAST-MODIFIED:20241004T125930Z
UID:5469-1728028800-1728061200@artistsplay.com
SUMMARY:October 11th - PA Day Camp. No regular classes.
DESCRIPTION:
URL:https://artistsplay.com/event/october-11th-pa-day-camp-no-regular-classes/
CATEGORIES:NO REGULAR CLASSES
END:VEVENT
BEGIN:VEVENT
DTSTART;TZID=UTC:20240915T130000
DTEND;TZID=UTC:20240915T170000
DTSTAMP:20260426T030153
CREATED:20240803T123454Z
LAST-MODIFIED:20240807T160003Z
UID:4408-1726405200-1726419600@artistsplay.com
SUMMARY:ARTISTS' PLAY SEPTEMBER FAIR
DESCRIPTION:Join us for a fun-filled afternoon at the Artists’ Plays September Fair and Cabaret! From 1:00pm to 4:45pm\, enjoy a mix of activities\, performances\, and local vendors. \nStart your visit with a free beverage if you arrive between 1:00pm and 2:00pm. Explore a variety of unique vendors selling crochet goodies\, coffee\, bath and body products\, custom t-shirts\, jewelry\, and so much more! Get creative with circus-themed arts and crafts\, make your own candy kabobs\, and capture memories at our photobooths. And don’t miss out on Flytime! Mini classes and trails! The highlight of the day is our Cabaret\, featuring amazing performances by emerging and upcoming artists!
URL:https://artistsplay.com/event/artists-play-september-fair/
ATTACH;FMTTYPE=image/jpeg:https://artistsplay.com/wp-content/uploads/2024/08/https___cdn.evbuc_.com_images_803725499_2225802016963_1_original.jpg
END:VEVENT
BEGIN:VEVENT
DTSTART;TZID=UTC:20240830T080000
DTEND;TZID=UTC:20240902T170000
DTSTAMP:20260426T030153
CREATED:20240727T231010Z
LAST-MODIFIED:20240807T160017Z
UID:4329-1725004800-1725296400@artistsplay.com
SUMMARY:TORONTO BUSKERFEST
DESCRIPTION:Enjoy a day of entertainment including aerial performances by Artists’ Play! \n  \n 
URL:https://artistsplay.com/event/toronto-buskerfest/
ATTACH;FMTTYPE=image/png:https://artistsplay.com/wp-content/uploads/2024/07/logo-jn28x2-copy.png
END:VEVENT
BEGIN:VEVENT
DTSTART;TZID=UTC:20240813T200000
DTEND;TZID=UTC:20240813T211500
DTSTAMP:20260426T030153
CREATED:20240807T155512Z
LAST-MODIFIED:20240807T155833Z
UID:4469-1723579200-1723583700@artistsplay.com
SUMMARY:MONDAY HOOP 8pm (All Levels)
DESCRIPTION:
URL:https://artistsplay.com/event/monday-hoop-8pm-all-levels/
CATEGORIES:ADULT CLASSES
END:VEVENT
BEGIN:VEVENT
DTSTART;TZID=UTC:20240807T160000
DTEND;TZID=UTC:20240807T171500
DTSTAMP:20260426T030153
CREATED:20240807T155217Z
LAST-MODIFIED:20240807T155828Z
UID:4465-1723046400-1723050900@artistsplay.com
SUMMARY:SUNDAY TRAPEZE 4pm - All Level
DESCRIPTION:
URL:https://artistsplay.com/event/sunday-trapeze-4pm-all-level/
LOCATION:ARTISTS’ PLAY
CATEGORIES:ADULT CLASSES
END:VEVENT
BEGIN:VEVENT
DTSTART;TZID=UTC:20240807T080000
DTEND;TZID=UTC:20240807T170000
DTSTAMP:20260426T030153
CREATED:20240807T155304Z
LAST-MODIFIED:20240807T155304Z
UID:4467-1723017600-1723050000@artistsplay.com
SUMMARY:FLEXIBILITY - Back Bends (All Levels)
DESCRIPTION:
URL:https://artistsplay.com/event/flexibility-back-bends-all-levels/
END:VEVENT
BEGIN:VEVENT
DTSTART;TZID=UTC:20240718T170000
DTEND;TZID=UTC:20240718T190000
DTSTAMP:20260426T030153
CREATED:20240710T150251Z
LAST-MODIFIED:20240807T155853Z
UID:4229-1721322000-1721329200@artistsplay.com
SUMMARY:OPEN HOUSE at Artists' Play
DESCRIPTION:
URL:https://artistsplay.com/event/open-house-at-artists-play/
LOCATION:ARTISTS’ PLAY
ATTACH;FMTTYPE=image/jpeg:https://artistsplay.com/wp-content/uploads/2024/07/IMG_5322.jpg
END:VEVENT
BEGIN:VEVENT
DTSTART;VALUE=DATE:20240705
DTEND;VALUE=DATE:20240708
DTSTAMP:20260426T030153
CREATED:20240420T172814Z
LAST-MODIFIED:20240807T155856Z
UID:3430-1720137600-1720396799@artistsplay.com
SUMMARY:BLOOM at the Botanical Gardens
DESCRIPTION:
URL:https://artistsplay.com/event/bloom-at-the-botanical-gardens/
LOCATION:Toronto Botanical Gardens\, 777 Lawrence Ave East\, Toronto\, Ontario\, M3C 1P2\, Canada
ATTACH;FMTTYPE=image/png:https://artistsplay.com/wp-content/uploads/2024/04/bloom_header.png
END:VEVENT
BEGIN:VEVENT
DTSTART;VALUE=DATE:20240623
DTEND;VALUE=DATE:20240624
DTSTAMP:20260426T030153
CREATED:20240318T163059Z
LAST-MODIFIED:20240807T155900Z
UID:2856-1719100800-1719187199@artistsplay.com
SUMMARY:June 23rd - All Year and Term Three classes end.
DESCRIPTION:Summer camps start soon!
URL:https://artistsplay.com/event/june-23rd-all-year-and-term-three-classes-end/
CATEGORIES:CHILD & YOUTH CLASS SCHEDULE
END:VEVENT
BEGIN:VEVENT
DTSTART;TZID=UTC:20240616T180000
DTEND;TZID=UTC:20240616T210000
DTSTAMP:20260426T030153
CREATED:20240510T134928Z
LAST-MODIFIED:20240807T155904Z
UID:3545-1718560800-1718571600@artistsplay.com
SUMMARY:JUNE FAIR + CABARET
DESCRIPTION:A fun filled day of circus for the whole Family! \nCircus & Acro Fair: 1pm Adults & children can hang upsidedown\, jump on our air track and flip if they dare! \nYouth Performance Team: 1:30pm Circus & Dance Performances by emerging and established artists.\n\nCabaret: 2pm Circus & Dance Performances by emerging and established artists. \n  \nGET YOUR TICKETS NOW!!!
URL:https://artistsplay.com/event/june-cabaret/
LOCATION:THE PLAYGROUND
ATTACH;FMTTYPE=image/jpeg:https://artistsplay.com/wp-content/uploads/2024/06/448314083_17993301935644893_3301319380644923192_n.jpg
END:VEVENT
BEGIN:VEVENT
DTSTART;VALUE=DATE:20240607
DTEND;VALUE=DATE:20240608
DTSTAMP:20260426T030153
CREATED:20240318T162800Z
LAST-MODIFIED:20240318T162800Z
UID:2854-1717718400-1717804799@artistsplay.com
SUMMARY:June 7th - PA Day Camp. No regular classes.
DESCRIPTION:
URL:https://artistsplay.com/event/june-7th-pa-day-camp-no-regular-classes/
CATEGORIES:NO REGULAR CLASSES
END:VEVENT
BEGIN:VEVENT
DTSTART;TZID=UTC:20240526T140000
DTEND;TZID=UTC:20240526T160000
DTSTAMP:20260426T030153
CREATED:20231229T184740Z
LAST-MODIFIED:20240807T155910Z
UID:1973-1716732000-1716739200@artistsplay.com
SUMMARY:ARTISTS' PLAY YEAR END SHOWS
DESCRIPTION:
URL:https://artistsplay.com/event/artists-play-year-end-shows-3/
LOCATION:ARTISTS’ PLAY
ATTACH;FMTTYPE=image/jpeg:https://artistsplay.com/wp-content/uploads/2023/12/AP_Events_YEARENDSHOWS_Eventbrite.jpg
END:VEVENT
BEGIN:VEVENT
DTSTART;TZID=UTC:20240525T180000
DTEND;TZID=UTC:20240525T200000
DTSTAMP:20260426T030153
CREATED:20231229T184646Z
LAST-MODIFIED:20231229T184905Z
UID:1971-1716660000-1716667200@artistsplay.com
SUMMARY:ARTISTS' PLAY YEAR END SHOWS
DESCRIPTION:
URL:https://artistsplay.com/event/artists-play-year-end-shows-2/
LOCATION:ARTISTS’ PLAY
ATTACH;FMTTYPE=image/jpeg:https://artistsplay.com/wp-content/uploads/2023/12/AP_Events_YEARENDSHOWS_Eventbrite.jpg
END:VEVENT
END:VCALENDAR