BEGIN:VCALENDAR
VERSION:2.0
PRODID:-//Artists Play - ECPv6.15.20//NONSGML v1.0//EN
CALSCALE:GREGORIAN
METHOD:PUBLISH
X-WR-CALNAME:Artists Play
X-ORIGINAL-URL:https://artistsplay.com
X-WR-CALDESC:Events for Artists Play
REFRESH-INTERVAL;VALUE=DURATION:PT1H
X-Robots-Tag:noindex
X-PUBLISHED-TTL:PT1H
BEGIN:VTIMEZONE
TZID:UTC
BEGIN:STANDARD
TZOFFSETFROM:+0000
TZOFFSETTO:+0000
TZNAME:UTC
DTSTART:20220101T000000
END:STANDARD
END:VTIMEZONE
BEGIN:VEVENT
DTSTART;TZID=UTC:20240616T180000
DTEND;TZID=UTC:20240616T210000
DTSTAMP:20260426T030506
CREATED:20240510T134928Z
LAST-MODIFIED:20240807T155904Z
UID:3545-1718560800-1718571600@artistsplay.com
SUMMARY:JUNE FAIR + CABARET
DESCRIPTION:A fun filled day of circus for the whole Family! \nCircus & Acro Fair: 1pm Adults & children can hang upsidedown\, jump on our air track and flip if they dare! \nYouth Performance Team: 1:30pm Circus & Dance Performances by emerging and established artists.\n\nCabaret: 2pm Circus & Dance Performances by emerging and established artists. \n  \nGET YOUR TICKETS NOW!!!
URL:https://artistsplay.com/event/june-cabaret/
LOCATION:THE PLAYGROUND
ATTACH;FMTTYPE=image/jpeg:https://artistsplay.com/wp-content/uploads/2024/06/448314083_17993301935644893_3301319380644923192_n.jpg
END:VEVENT
BEGIN:VEVENT
DTSTART;VALUE=DATE:20240607
DTEND;VALUE=DATE:20240608
DTSTAMP:20260426T030506
CREATED:20240318T162800Z
LAST-MODIFIED:20240318T162800Z
UID:2854-1717718400-1717804799@artistsplay.com
SUMMARY:June 7th - PA Day Camp. No regular classes.
DESCRIPTION:
URL:https://artistsplay.com/event/june-7th-pa-day-camp-no-regular-classes/
LOCATION:Ontario
CATEGORIES:NO REGULAR CLASSES
END:VEVENT
BEGIN:VEVENT
DTSTART;TZID=UTC:20240526T140000
DTEND;TZID=UTC:20240526T160000
DTSTAMP:20260426T030506
CREATED:20231229T184740Z
LAST-MODIFIED:20240807T155910Z
UID:1973-1716732000-1716739200@artistsplay.com
SUMMARY:ARTISTS' PLAY YEAR END SHOWS
DESCRIPTION:
URL:https://artistsplay.com/event/artists-play-year-end-shows-3/
LOCATION:ARTISTS’ PLAY
ATTACH;FMTTYPE=image/jpeg:https://artistsplay.com/wp-content/uploads/2023/12/AP_Events_YEARENDSHOWS_Eventbrite.jpg
END:VEVENT
BEGIN:VEVENT
DTSTART;TZID=UTC:20240525T180000
DTEND;TZID=UTC:20240525T200000
DTSTAMP:20260426T030506
CREATED:20231229T184646Z
LAST-MODIFIED:20231229T184905Z
UID:1971-1716660000-1716667200@artistsplay.com
SUMMARY:ARTISTS' PLAY YEAR END SHOWS
DESCRIPTION:
URL:https://artistsplay.com/event/artists-play-year-end-shows-2/
LOCATION:ARTISTS’ PLAY
ATTACH;FMTTYPE=image/jpeg:https://artistsplay.com/wp-content/uploads/2023/12/AP_Events_YEARENDSHOWS_Eventbrite.jpg
END:VEVENT
BEGIN:VEVENT
DTSTART;TZID=UTC:20240524T180000
DTEND;TZID=UTC:20240526T200000
DTSTAMP:20260426T030506
CREATED:20231229T184558Z
LAST-MODIFIED:20231229T184929Z
UID:1969-1716573600-1716753600@artistsplay.com
SUMMARY:ARTISTS' PLAY YEAR END SHOWS
DESCRIPTION:
URL:https://artistsplay.com/event/artists-play-year-end-shows/
LOCATION:ARTISTS’ PLAY
ATTACH;FMTTYPE=image/jpeg:https://artistsplay.com/wp-content/uploads/2023/12/AP_Events_YEARENDSHOWS_Eventbrite.jpg
END:VEVENT
BEGIN:VEVENT
DTSTART;VALUE=DATE:20240518
DTEND;VALUE=DATE:20240521
DTSTAMP:20260426T030506
CREATED:20240318T162626Z
LAST-MODIFIED:20240318T162626Z
UID:2852-1715990400-1716249599@artistsplay.com
SUMMARY:May 18th to 20th - Closed for Victoria Day Weekend.
DESCRIPTION:
URL:https://artistsplay.com/event/may-18th-to-20th-closed-for-victoria-day-weekend/
LOCATION:Ontario
CATEGORIES:NO REGULAR CLASSES
END:VEVENT
BEGIN:VEVENT
DTSTART;TZID=UTC:20240504T160000
DTEND;TZID=UTC:20240504T210000
DTSTAMP:20260426T030506
CREATED:20240406T181051Z
LAST-MODIFIED:20240807T155917Z
UID:3042-1714838400-1714856400@artistsplay.com
SUMMARY:Spring Cabaret + Fair
DESCRIPTION:Enjoy daytime Spring Fair with mini performances\, mini lessons\, vendors and more! Ticket price includes evening Cabaret Show and kids zone!
URL:https://artistsplay.com/event/spring-cabaret-fair/
LOCATION:Ontario
ATTACH;FMTTYPE=image/png:https://artistsplay.com/wp-content/uploads/2024/04/Spring-Fair-Cabaret.png
END:VEVENT
BEGIN:VEVENT
DTSTART;TZID=UTC:20240420T090000
DTEND;TZID=UTC:20240420T210000
DTSTAMP:20260426T030506
CREATED:20231229T175318Z
LAST-MODIFIED:20240807T155920Z
UID:1948-1713603600-1713646800@artistsplay.com
SUMMARY:EVENTUALIZE CIRCUS ARTS FESTIVAL
DESCRIPTION:
URL:https://artistsplay.com/event/toronto-circus-arts-festival/
LOCATION:ARTISTS’ PLAY
END:VEVENT
BEGIN:VEVENT
DTSTART;TZID=UTC:20240419T150000
DTEND;TZID=UTC:20240419T200000
DTSTAMP:20260426T030506
CREATED:20240320T171523Z
LAST-MODIFIED:20240320T171552Z
UID:2904-1713538800-1713556800@artistsplay.com
SUMMARY:April 19th - Regular classes run this Friday!
DESCRIPTION:The PA Day has been moved to April 8th.
URL:https://artistsplay.com/event/april-19th-regular-classes-run-this-friday/
LOCATION:Ontario
END:VEVENT
BEGIN:VEVENT
DTSTART;TZID=UTC:20240408T084500
DTEND;TZID=UTC:20240408T160000
DTSTAMP:20260426T030506
CREATED:20240318T162449Z
LAST-MODIFIED:20240320T171707Z
UID:2850-1712565900-1712592000@artistsplay.com
SUMMARY:April 8th - PA Day Camp. No regular classes.
DESCRIPTION:This PA day was moved from April 19th. See here for an explanation: https://www.tdsb.on.ca/home/ctl/Details/mid/43823/itemId/245 \nTotal solar eclipse safety is here: https://opto.ca/eye-health-library/solar-eclipse-safety
URL:https://artistsplay.com/event/april-19th-pa-day-camp-no-regular-classes/
LOCATION:Ontario
CATEGORIES:NO REGULAR CLASSES
END:VEVENT
BEGIN:VEVENT
DTSTART;TZID=UTC:20240407T180000
DTEND;TZID=UTC:20240407T190000
DTSTAMP:20260426T030506
CREATED:20240406T125613Z
LAST-MODIFIED:20240807T155931Z
UID:3002-1712512800-1712516400@artistsplay.com
SUMMARY:April 7 - Adult Performance Class Showcase
DESCRIPTION:Come see the beautiful creations of our Performance Class students.  Coach: Edio Silvio Neto. \nGET YOUR TICKETS:\nhttps://www.eventbrite.ca/e/874037669197?aff=oddtdtcreator
URL:https://artistsplay.com/event/april-7-adult-performance-class-showcase/
LOCATION:Ontario
ATTACH;FMTTYPE=image/png:https://artistsplay.com/wp-content/uploads/2024/04/Performance-Showcase-Banner.png
END:VEVENT
BEGIN:VEVENT
DTSTART;VALUE=DATE:20240329
DTEND;VALUE=DATE:20240402
DTSTAMP:20260426T030506
CREATED:20240318T160326Z
LAST-MODIFIED:20240318T160602Z
UID:2847-1711670400-1712015999@artistsplay.com
SUMMARY:March 29th to April 1st - Closed for Easter.
DESCRIPTION:
URL:https://artistsplay.com/event/march-29th-to-april-1st-closed-for-easter/
LOCATION:Ontario
CATEGORIES:NO REGULAR CLASSES
END:VEVENT
BEGIN:VEVENT
DTSTART;VALUE=DATE:20240318
DTEND;VALUE=DATE:20240624
DTSTAMP:20260426T030506
CREATED:20240108T211522Z
LAST-MODIFIED:20240108T215054Z
UID:2067-1710720000-1719187199@artistsplay.com
SUMMARY:2024 - TERM 3 - Monday\, March 18th to Sunday\, June 23rd
DESCRIPTION:
URL:https://artistsplay.com/event/2024-term-3-monday-march-18th-to-sunday-june-23rd/
LOCATION:Ontario
CATEGORIES:CHILD & YOUTH CLASS SCHEDULE
END:VEVENT
BEGIN:VEVENT
DTSTART;TZID=UTC:20240311T090000
DTEND;TZID=UTC:20240315T160000
DTSTAMP:20260426T030506
CREATED:20240108T215312Z
LAST-MODIFIED:20240108T215312Z
UID:2076-1710147600-1710518400@artistsplay.com
SUMMARY:March 11th to 15th - March Break Camp. No regular classes.
DESCRIPTION:
URL:https://artistsplay.com/event/march-11th-to-15th-march-break-camp-no-regular-classes/
LOCATION:Ontario
CATEGORIES:NO REGULAR CLASSES
END:VEVENT
BEGIN:VEVENT
DTSTART;VALUE=DATE:20240217
DTEND;VALUE=DATE:20240220
DTSTAMP:20260426T030506
CREATED:20240108T213742Z
LAST-MODIFIED:20240108T214721Z
UID:2074-1708128000-1708387199@artistsplay.com
SUMMARY:February 17th to 19th - Family Day Weekend. No regular classes.
DESCRIPTION:
URL:https://artistsplay.com/event/february-17th-to-19th-family-day-weekend-no-regular-classes/
LOCATION:Ontario
CATEGORIES:NO REGULAR CLASSES
END:VEVENT
BEGIN:VEVENT
DTSTART;TZID=UTC:20240216T090000
DTEND;TZID=UTC:20240216T160000
DTSTAMP:20260426T030506
CREATED:20240108T211951Z
LAST-MODIFIED:20240108T215033Z
UID:2071-1708074000-1708099200@artistsplay.com
SUMMARY:February 16th - PA Day Camp. No regular classes.
DESCRIPTION:
URL:https://artistsplay.com/event/february-16th-pa-day-camp-no-regular-classes/
LOCATION:Ontario
CATEGORIES:NO REGULAR CLASSES
END:VEVENT
BEGIN:VEVENT
DTSTART;TZID=UTC:20240203T190000
DTEND;TZID=UTC:20240203T210000
DTSTAMP:20260426T030506
CREATED:20231229T181952Z
LAST-MODIFIED:20231229T185119Z
UID:1965-1706986800-1706994000@artistsplay.com
SUMMARY:WONDER OF WINTERLAND at Artists' Play
DESCRIPTION:
URL:https://artistsplay.com/event/wonder-of-winterland-at-artists-play/
LOCATION:ARTISTS’ PLAY
ATTACH;FMTTYPE=image/jpeg:https://artistsplay.com/wp-content/uploads/2023/12/AP_Events_WINTERLAND_Eventbrite.jpg
END:VEVENT
BEGIN:VEVENT
DTSTART;TZID=UTC:20240119T090000
DTEND;TZID=UTC:20240119T160000
DTSTAMP:20260426T030506
CREATED:20240108T211754Z
LAST-MODIFIED:20240108T215041Z
UID:2069-1705654800-1705680000@artistsplay.com
SUMMARY:January 19th - PA Day Camp. No regular classes.
DESCRIPTION:
URL:https://artistsplay.com/event/january-19th-pa-day-camp-no-regular-classes/
LOCATION:Ontario
CATEGORIES:NO REGULAR CLASSES
END:VEVENT
BEGIN:VEVENT
DTSTART;VALUE=DATE:20240108
DTEND;VALUE=DATE:20240311
DTSTAMP:20260426T030506
CREATED:20240108T211332Z
LAST-MODIFIED:20240108T215105Z
UID:2065-1704672000-1710115199@artistsplay.com
SUMMARY:2024 - TERM 2 - Monday\, January 8th to Sunday\, March 10th
DESCRIPTION:
URL:https://artistsplay.com/event/2024-term-2-monday-january-8th-to-sunday-march-10th/
LOCATION:Ontario
CATEGORIES:CHILD & YOUTH CLASS SCHEDULE
END:VEVENT
BEGIN:VEVENT
DTSTART;TZID=UTC:20231229T000000
DTEND;TZID=UTC:20231229T000000
DTSTAMP:20260426T030506
CREATED:20231229T185239Z
LAST-MODIFIED:20231229T185239Z
UID:1967-1703808000-1703808000@artistsplay.com
SUMMARY:FAMILY WINTER FAIR
DESCRIPTION:
URL:https://artistsplay.com/event/family-winter-fair/
LOCATION:Ontario
ATTACH;FMTTYPE=image/jpeg:https://artistsplay.com/wp-content/uploads/2023/12/AP_Events_WINTERFAIR_Eventbrite.jpg
END:VEVENT
END:VCALENDAR